BEGIN:VCALENDAR
VERSION:2.0
PRODID:DPCALENDAR
CALSCALE:GREGORIAN
X-WR-TIMEZONE:UTC
BEGIN:VEVENT
DTSTART;TZID=UTC:20250925T110000
DTEND;TZID=UTC:20250925T130000
UID:CA9294FA-7050-4906-961B-72BB8F5C7CF2
SUMMARY:Inauguración Club Curso 2025 -2026
CREATED:20250925T115105Z
DTSTAMP:20250925T115105Z
URL:https://www.clubanclar.es/index.php/inauguracion-club-curso-2025-2026
LAST-MODIFIED:20250925T115105Z
SEQUENCE:0
X-ACCESS:1
X-HITS:14
X-COLOR:e6dd45
X-SHOW-END-TIME:1
END:VEVENT
BEGIN:VEVENT
DTSTART;TZID=UTC:20260225T110000
DTEND;TZID=UTC:20260225T123000
UID:8215F84D-9342-4442-85BE-0667828A49A1
SUMMARY:Cocina
CREATED:20251004T160853Z
DTSTAMP:20251004T160853Z
URL:https://www.clubanclar.es/index.php/cocina-para-ninos-2
DESCRIPTION:Cocina
X-ALT-DESC;FMTTYPE=text/html:<p>Cocina</p>
LAST-MODIFIED:20260224T110755Z
SEQUENCE:12337142
X-ACCESS:1
X-HITS:18
X-COLOR:37a626
X-SHOW-END-TIME:1
END:VEVENT
BEGIN:VEVENT
DTSTART;TZID=UTC:20260325T110000
DTEND;TZID=UTC:20260325T123000
UID:488C0750-6BBA-4E4C-B806-FD1796BA5EC5
SUMMARY:Cocina
CREATED:20251004T160853Z
DTSTAMP:20251004T160853Z
URL:https://www.clubanclar.es/index.php/cocina-para-ninos-4
DESCRIPTION:Cocina
X-ALT-DESC;FMTTYPE=text/html:<p>Cocina</p>
LAST-MODIFIED:20260307T074032Z
SEQUENCE:13275099
X-ACCESS:1
X-HITS:53
X-COLOR:37a626
X-SHOW-END-TIME:1
END:VEVENT
END:VCALENDAR