BEGIN:VCALENDAR
VERSION:2.0
PRODID:DPCALENDAR
CALSCALE:GREGORIAN
X-WR-TIMEZONE:UTC
BEGIN:VEVENT
DTSTART;TZID=UTC:20251006T110000
DTEND;TZID=UTC:20251006T123000
UID:29C010D3-F7EA-4FDA-B61E-65D65A8BF08E
SUMMARY:Clases de Arte
CREATED:20250925T115200Z
DTSTAMP:20250925T115200Z
URL:https://www.clubanclar.es/index.php/clases-de-arte
LAST-MODIFIED:20250925T115200Z
SEQUENCE:0
X-ACCESS:1
X-HITS:59
X-COLOR:e6dde6
X-SHOW-END-TIME:1
END:VEVENT
BEGIN:VEVENT
DTSTART;TZID=UTC:20251013T110000
DTEND;TZID=UTC:20251013T123000
UID:7F549363-940E-4F03-8E27-D88875BDEEBD
SUMMARY:Clases de Arte
CREATED:20250925T115403Z
DTSTAMP:20250925T115403Z
URL:https://www.clubanclar.es/index.php/clases-de-arte-2
LAST-MODIFIED:20250925T115403Z
SEQUENCE:0
X-ACCESS:1
X-HITS:73
X-COLOR:e6dde6
X-SHOW-END-TIME:1
END:VEVENT
BEGIN:VEVENT
DTSTART;TZID=UTC:20251020T110000
DTEND;TZID=UTC:20251020T123000
UID:693C679B-C7C9-4962-A046-B0079448B3CB
SUMMARY:Clases de Arte
CREATED:20250925T115750Z
DTSTAMP:20250925T115750Z
URL:https://www.clubanclar.es/index.php/clases-de-arte-3
LAST-MODIFIED:20250925T115750Z
SEQUENCE:0
X-ACCESS:1
X-HITS:76
X-COLOR:e6dde6
X-SHOW-END-TIME:1
END:VEVENT
BEGIN:VEVENT
DTSTART;TZID=UTC:20251027T110000
DTEND;TZID=UTC:20251027T123000
UID:D8D8D62D-9BD5-4B8C-B5CE-0F97FB49C96D
SUMMARY:Clases de Arte
CREATED:20250925T115918Z
DTSTAMP:20250925T115918Z
URL:https://www.clubanclar.es/index.php/clases-de-arte-4
DESCRIPTION:Impartido por Ana Mª Estrella Suanzes\Nde 11h a 12h\N(pincha saber más de la actividad)\N 
X-ALT-DESC;FMTTYPE=text/html:<p>Impartido por Ana Mª Estrella Suanzes</p><p>de 11h a 12h</p><p><a href="index.php/actividades/clases-de-arte">(pincha saber más de la actividad)</a></p><p> </p>
LAST-MODIFIED:20251024T074039Z
SEQUENCE:2490081
X-ACCESS:1
X-HITS:68
X-COLOR:e6dde6
X-SHOW-END-TIME:1
END:VEVENT
BEGIN:VEVENT
DTSTART;TZID=UTC:20251103T110000
DTEND;TZID=UTC:20251103T123000
UID:D2EE93D6-FE41-4D73-9D34-63E94710DE22
SUMMARY:Clases de Arte
CREATED:20250925T115918Z
DTSTAMP:20250925T115918Z
URL:https://www.clubanclar.es/index.php/clases-de-arte-5
DESCRIPTION:Impartido por Ana Mª Estrella Suanzes\Nde 11h a 12h\N(pincha saber más de la actividad)
X-ALT-DESC;FMTTYPE=text/html:<p>Impartido por Ana Mª Estrella Suanzes</p><p>de 11h a 12h</p><p><a href="index.php/actividades/clases-de-arte">(pincha saber más de la actividad)</a></p>
LAST-MODIFIED:20251024T074050Z
SEQUENCE:2490092
X-ACCESS:1
X-HITS:49
X-COLOR:e6dde6
X-SHOW-END-TIME:1
END:VEVENT
BEGIN:VEVENT
DTSTART;TZID=UTC:20251117T110000
DTEND;TZID=UTC:20251117T123000
UID:2CAA24DF-C68F-4914-87DC-CA84E2CBAACD
SUMMARY:Clases de Arte
CREATED:20250925T115918Z
DTSTAMP:20250925T115918Z
URL:https://www.clubanclar.es/index.php/clases-de-arte-6
DESCRIPTION:Impartido por Ana Mª Estrella Suanzes\Nde 11h a 12h\N(pincha saber más de la actividad)
X-ALT-DESC;FMTTYPE=text/html:<p>Impartido por Ana Mª Estrella Suanzes</p><p>de 11h a 12h</p><p><a href="index.php/actividades/clases-de-arte">(pincha saber más de la actividad)</a></p>
LAST-MODIFIED:20251024T074059Z
SEQUENCE:2490101
X-ACCESS:1
X-HITS:73
X-COLOR:e6dde6
X-SHOW-END-TIME:1
END:VEVENT
BEGIN:VEVENT
DTSTART;TZID=UTC:20251124T110000
DTEND;TZID=UTC:20251124T123000
UID:25ADB1FF-499B-4E2C-BBDA-B5CDA99119BD
SUMMARY:Clases de Arte
CREATED:20250925T115918Z
DTSTAMP:20250925T115918Z
URL:https://www.clubanclar.es/index.php/clases-de-arte-7
DESCRIPTION:Impartido por Ana Mª Estrella Suanzes\Nde 11h a 12h\N(pincha saber más de la actividad)
X-ALT-DESC;FMTTYPE=text/html:<p>Impartido por Ana Mª Estrella Suanzes</p><p>de 11h a 12h</p><p><a href="index.php/actividades/clases-de-arte">(pincha saber más de la actividad)</a></p>
LAST-MODIFIED:20251024T074109Z
SEQUENCE:2490111
X-ACCESS:1
X-HITS:81
X-COLOR:e6dde6
X-SHOW-END-TIME:1
END:VEVENT
BEGIN:VEVENT
DTSTART;TZID=UTC:20251201T110000
DTEND;TZID=UTC:20251201T123000
UID:BA4A22C4-21CC-47C4-8DFF-F0CAEE11527E
SUMMARY:Clases de Arte
CREATED:20250925T115918Z
DTSTAMP:20250925T115918Z
URL:https://www.clubanclar.es/index.php/clases-de-arte-8
DESCRIPTION:Impartido por Ana Mª Estrella Suanzes\Nde 11h a 12h\N(pincha saber más de la actividad)
X-ALT-DESC;FMTTYPE=text/html:<p>Impartido por Ana Mª Estrella Suanzes</p><p>de 11h a 12h</p><p><a href="index.php/actividades/clases-de-arte">(pincha saber más de la actividad)</a></p>
LAST-MODIFIED:20251204T122709Z
SEQUENCE:6049671
X-ACCESS:1
X-HITS:4
X-COLOR:e6dde6
X-SHOW-END-TIME:1
END:VEVENT
BEGIN:VEVENT
DTSTART;TZID=UTC:20251215T110000
DTEND;TZID=UTC:20251215T123000
UID:12A55A95-F1B5-4EC0-A6F5-3F3AD8B163E0
SUMMARY:Clases de Arte
CREATED:20250925T115918Z
DTSTAMP:20250925T115918Z
URL:https://www.clubanclar.es/index.php/clases-de-arte-9
DESCRIPTION:Impartido por Ana Mª Estrella Suanzes\Nde 11h a 12h\N(pincha saber más de la actividad)
X-ALT-DESC;FMTTYPE=text/html:<p>Impartido por Ana Mª Estrella Suanzes</p><p>de 11h a 12h</p><p><a href="index.php/actividades/clases-de-arte">(pincha saber más de la actividad)</a></p>
LAST-MODIFIED:20251204T124623Z
SEQUENCE:6050825
X-ACCESS:1
X-HITS:39
X-COLOR:e6dde6
X-SHOW-END-TIME:1
END:VEVENT
BEGIN:VEVENT
DTSTART;TZID=UTC:20260112T110000
DTEND;TZID=UTC:20260112T123000
UID:07D467F0-5D6B-4AC4-8287-5071794CC8D2
SUMMARY:Clases de Arte
CREATED:20250925T115918Z
DTSTAMP:20250925T115918Z
URL:https://www.clubanclar.es/index.php/clases-de-arte-11
DESCRIPTION:Impartido por Ana Mª Estrella Suanzes\Nde 11h a 12h\N(pincha saber más de la actividad)
X-ALT-DESC;FMTTYPE=text/html:<p>Impartido por Ana Mª Estrella Suanzes</p><p>de 11h a 12h</p><p><a href="index.php/actividades/clases-de-arte">(pincha saber más de la actividad)</a></p>
LAST-MODIFIED:20260111T182458Z
SEQUENCE:9354340
X-ACCESS:1
X-HITS:4
X-COLOR:e6dde6
X-SHOW-END-TIME:1
END:VEVENT
BEGIN:VEVENT
DTSTART;TZID=UTC:20260119T110000
DTEND;TZID=UTC:20260119T123000
UID:20A6B2D9-229B-44A8-B5D9-FD1871E05A0F
SUMMARY:Clases de Arte
CREATED:20250925T115918Z
DTSTAMP:20250925T115918Z
URL:https://www.clubanclar.es/index.php/clases-de-arte-12
DESCRIPTION:Impartido por Ana Mª Estrella Suanzes\Nde 11h a 12h\N(pincha saber más de la actividad)
X-ALT-DESC;FMTTYPE=text/html:<p>Impartido por Ana Mª Estrella Suanzes</p><p>de 11h a 12h</p><p><a href="index.php/actividades/clases-de-arte">(pincha saber más de la actividad)</a></p>
LAST-MODIFIED:20260111T182511Z
SEQUENCE:9354353
X-ACCESS:1
X-HITS:25
X-COLOR:e6dde6
X-SHOW-END-TIME:1
END:VEVENT
BEGIN:VEVENT
DTSTART;TZID=UTC:20260126T110000
DTEND;TZID=UTC:20260126T123000
UID:131DDDA6-A1DD-4421-A307-26BAAD9248B9
SUMMARY:Clases de Arte
CREATED:20250925T115918Z
DTSTAMP:20250925T115918Z
URL:https://www.clubanclar.es/index.php/clases-de-arte-13
DESCRIPTION:Impartido por Ana Mª Estrella Suanzes\Nde 11h a 12h\N(pincha saber más de la actividad)
X-ALT-DESC;FMTTYPE=text/html:<p>Impartido por Ana Mª Estrella Suanzes</p><p>de 11h a 12h</p><p><a href="index.php/actividades/clases-de-arte">(pincha saber más de la actividad)</a></p>
LAST-MODIFIED:20260111T182524Z
SEQUENCE:9354366
X-ACCESS:1
X-HITS:25
X-COLOR:e6dde6
X-SHOW-END-TIME:1
END:VEVENT
BEGIN:VEVENT
DTSTART;TZID=UTC:20260202T110000
DTEND;TZID=UTC:20260202T123000
UID:508B6CD1-416D-4F7D-83E5-1E4EF9A63197
SUMMARY:Clases de Arte
CREATED:20250925T115918Z
DTSTAMP:20250925T115918Z
URL:https://www.clubanclar.es/index.php/clases-de-arte-14
DESCRIPTION:Impartido por Ana Mª Estrella Suanzes\Nde 11h a 12h\N(pincha saber más de la actividad)
X-ALT-DESC;FMTTYPE=text/html:<p>Impartido por Ana Mª Estrella Suanzes</p><p>de 11h a 12h</p><p><a href="index.php/actividades/clases-de-arte">(pincha saber más de la actividad)</a></p>
LAST-MODIFIED:20260129T191243Z
SEQUENCE:10912405
X-ACCESS:1
X-HITS:16
X-COLOR:e6dde6
X-SHOW-END-TIME:1
END:VEVENT
BEGIN:VEVENT
DTSTART;TZID=UTC:20260209T110000
DTEND;TZID=UTC:20260209T123000
UID:D20201F9-47E9-473A-B22E-824D4738BBEA
SUMMARY:Clases de Arte
CREATED:20250925T115918Z
DTSTAMP:20250925T115918Z
URL:https://www.clubanclar.es/index.php/clases-de-arte-15
DESCRIPTION:Impartido por Ana Mª Estrella Suanzes\Nde 11h a 12h\N(pincha saber más de la actividad)
X-ALT-DESC;FMTTYPE=text/html:<p>Impartido por Ana Mª Estrella Suanzes</p><p>de 11h a 12h</p><p><a href="index.php/actividades/clases-de-arte">(pincha saber más de la actividad)</a></p>
LAST-MODIFIED:20260129T191255Z
SEQUENCE:10912417
X-ACCESS:1
X-HITS:32
X-COLOR:e6dde6
X-SHOW-END-TIME:1
END:VEVENT
BEGIN:VEVENT
DTSTART;TZID=UTC:20260216T110000
DTEND;TZID=UTC:20260216T123000
UID:FEA63686-BFDF-45D8-BA22-2B543DB96791
SUMMARY:Clases de Arte
CREATED:20250925T115918Z
DTSTAMP:20250925T115918Z
URL:https://www.clubanclar.es/index.php/clases-de-arte-16
DESCRIPTION:Impartido por Ana Mª Estrella Suanzes\Nde 11h a 12h\N(pincha saber más de la actividad)
X-ALT-DESC;FMTTYPE=text/html:<p>Impartido por Ana Mª Estrella Suanzes</p><p>de 11h a 12h</p><p><a href="index.php/actividades/clases-de-arte">(pincha saber más de la actividad)</a></p>
LAST-MODIFIED:20260129T191305Z
SEQUENCE:10912427
X-ACCESS:1
X-HITS:44
X-COLOR:e6dde6
X-SHOW-END-TIME:1
END:VEVENT
BEGIN:VEVENT
DTSTART;TZID=UTC:20260223T110000
DTEND;TZID=UTC:20260223T123000
UID:AF66F02B-8EDA-4A55-BF8A-65781418447E
SUMMARY:Clases de Arte
CREATED:20250925T115918Z
DTSTAMP:20250925T115918Z
URL:https://www.clubanclar.es/index.php/clases-de-arte-17
DESCRIPTION:Impartido por Ana Mª Estrella Suanzes\Nde 11h a 12h\N(pincha saber más de la actividad)
X-ALT-DESC;FMTTYPE=text/html:<p>Impartido por Ana Mª Estrella Suanzes</p><p>de 11h a 12h</p><p><a href="index.php/actividades/clases-de-arte">(pincha saber más de la actividad)</a></p>
LAST-MODIFIED:20260129T191316Z
SEQUENCE:10912438
X-ACCESS:1
X-HITS:57
X-COLOR:e6dde6
X-SHOW-END-TIME:1
END:VEVENT
BEGIN:VEVENT
DTSTART;TZID=UTC:20260302T110000
DTEND;TZID=UTC:20260302T123000
UID:34B126EF-D466-4B8E-9390-3A9CFAAAF1E6
SUMMARY:Clases de Arte
CREATED:20250925T115918Z
DTSTAMP:20250925T115918Z
URL:https://www.clubanclar.es/index.php/clases-de-arte-18
DESCRIPTION:Impartido por Ana Mª Estrella Suanzes\Nde 11h a 12h\N(pincha saber más de la actividad)
X-ALT-DESC;FMTTYPE=text/html:<p>Impartido por Ana Mª Estrella Suanzes</p><p>de 11h a 12h</p><p><a href="index.php/actividades/clases-de-arte">(pincha saber más de la actividad)</a></p>
LAST-MODIFIED:20260307T073040Z
SEQUENCE:14067082
X-ACCESS:1
X-HITS:8
X-COLOR:e6dde6
X-SHOW-END-TIME:1
END:VEVENT
BEGIN:VEVENT
DTSTART;TZID=UTC:20260309T110000
DTEND;TZID=UTC:20260309T123000
UID:850CE736-E42D-41D1-8E95-173D30E07D51
SUMMARY:Clases de Arte
CREATED:20250925T115918Z
DTSTAMP:20250925T115918Z
URL:https://www.clubanclar.es/index.php/clases-de-arte-19
DESCRIPTION:Impartido por Ana Mª Estrella Suanzes\Nde 11h a 12h\N(pincha saber más de la actividad)
X-ALT-DESC;FMTTYPE=text/html:<p>Impartido por Ana Mª Estrella Suanzes</p><p>de 11h a 12h</p><p><a href="index.php/actividades/clases-de-arte">(pincha saber más de la actividad)</a></p>
LAST-MODIFIED:20260307T073113Z
SEQUENCE:14067115
X-ACCESS:1
X-HITS:12
X-COLOR:e6dde6
X-SHOW-END-TIME:1
END:VEVENT
BEGIN:VEVENT
DTSTART;TZID=UTC:20260316T110000
DTEND;TZID=UTC:20260316T123000
UID:076F4A44-4E47-439A-AF41-0A881AC71B0F
SUMMARY:Clases de Arte
CREATED:20250925T115918Z
DTSTAMP:20250925T115918Z
URL:https://www.clubanclar.es/index.php/clases-de-arte-20
DESCRIPTION:Impartido por Ana Mª Estrella Suanzes\Nde 11h a 12h\N(pincha saber más de la actividad)
X-ALT-DESC;FMTTYPE=text/html:<p>Impartido por Ana Mª Estrella Suanzes</p><p>de 11h a 12h</p><p><a href="index.php/actividades/clases-de-arte">(pincha saber más de la actividad)</a></p>
LAST-MODIFIED:20260307T073219Z
SEQUENCE:14067181
X-ACCESS:1
X-HITS:15
X-COLOR:e6dde6
X-SHOW-END-TIME:1
END:VEVENT
BEGIN:VEVENT
DTSTART;TZID=UTC:20260323T110000
DTEND;TZID=UTC:20260323T123000
UID:91A6EE06-6959-4D0F-B8C6-B83A6B2ABEF7
SUMMARY:Clases de Arte
CREATED:20250925T115918Z
DTSTAMP:20250925T115918Z
URL:https://www.clubanclar.es/index.php/clases-de-arte-21
DESCRIPTION:Impartido por Ana Mª Estrella Suanzes\Nde 11h a 12h\N(pincha saber más de la actividad)
X-ALT-DESC;FMTTYPE=text/html:<p>Impartido por Ana Mª Estrella Suanzes</p><p>de 11h a 12h</p><p><a href="index.php/actividades/clases-de-arte">(pincha saber más de la actividad)</a></p>
LAST-MODIFIED:20260307T073353Z
SEQUENCE:14067275
X-ACCESS:1
X-HITS:27
X-COLOR:e6dde6
X-SHOW-END-TIME:1
END:VEVENT
BEGIN:VEVENT
DTSTART;TZID=UTC:20260406T110000
DTEND;TZID=UTC:20260406T123000
UID:D200933B-5485-4C7A-A909-E861CCE52A00
SUMMARY:Clases de Arte
CREATED:20250925T115918Z
DTSTAMP:20250925T115918Z
URL:https://www.clubanclar.es/index.php/clases-de-arte-22
DESCRIPTION:Impartido por Ana Mª Estrella Suanzes\Nde 11h a 12h\N(pincha saber más de la actividad)
X-ALT-DESC;FMTTYPE=text/html:<p>Impartido por Ana Mª Estrella Suanzes</p><p>de 11h a 12h</p><p><a href="index.php/actividades/clases-de-arte">(pincha saber más de la actividad)</a></p>
LAST-MODIFIED:20260326T104130Z
SEQUENCE:15720132
X-ACCESS:1
X-HITS:22
X-COLOR:e6dde6
X-SHOW-END-TIME:1
END:VEVENT
BEGIN:VEVENT
DTSTART;TZID=UTC:20260413T110000
DTEND;TZID=UTC:20260413T123000
UID:1B0A99DF-2990-4851-BDCA-7AD999ABAD8B
SUMMARY:Clases de Arte
CREATED:20250925T115918Z
DTSTAMP:20250925T115918Z
URL:https://www.clubanclar.es/index.php/clases-de-arte-23
DESCRIPTION:Impartido por Ana Mª Estrella Suanzes\Nde 11h a 12h\N(pincha saber más de la actividad)
X-ALT-DESC;FMTTYPE=text/html:<p>Impartido por Ana Mª Estrella Suanzes</p><p>de 11h a 12h</p><p><a href="index.php/actividades/clases-de-arte">(pincha saber más de la actividad)</a></p>
LAST-MODIFIED:20260326T103925Z
SEQUENCE:15720007
X-ACCESS:1
X-HITS:16
X-COLOR:e6dde6
X-SHOW-END-TIME:1
END:VEVENT
BEGIN:VEVENT
DTSTART;TZID=UTC:20260420T110000
DTEND;TZID=UTC:20260420T123000
UID:A3007EBC-74E6-4D75-9E11-4F6032E20DCC
SUMMARY:Clases de Arte
CREATED:20250925T115918Z
DTSTAMP:20250925T115918Z
URL:https://www.clubanclar.es/index.php/clases-de-arte-24
DESCRIPTION:Impartido por Ana Mª Estrella Suanzes\Nde 11h a 12h\N(pincha saber más de la actividad)
X-ALT-DESC;FMTTYPE=text/html:<p>Impartido por Ana Mª Estrella Suanzes</p><p>de 11h a 12h</p><p><a href="index.php/actividades/clases-de-arte">(pincha saber más de la actividad)</a></p>
LAST-MODIFIED:20260326T103947Z
SEQUENCE:15720029
X-ACCESS:1
X-HITS:19
X-COLOR:e6dde6
X-SHOW-END-TIME:1
END:VEVENT
BEGIN:VEVENT
DTSTART;TZID=UTC:20260427T110000
DTEND;TZID=UTC:20260427T123000
UID:4504ABEB-3764-4E8A-BBAE-FC5CB919258D
SUMMARY:Clases de Arte
CREATED:20250925T115918Z
DTSTAMP:20250925T115918Z
URL:https://www.clubanclar.es/index.php/clases-de-arte-25
DESCRIPTION:Impartido por Ana Mª Estrella Suanzes\Nde 11h a 12h\N(pincha saber más de la actividad)
X-ALT-DESC;FMTTYPE=text/html:<p>Impartido por Ana Mª Estrella Suanzes</p><p>de 11h a 12h</p><p><a href="index.php/actividades/clases-de-arte">(pincha saber más de la actividad)</a></p>
LAST-MODIFIED:20260326T104004Z
SEQUENCE:15720046
X-ACCESS:1
X-HITS:24
X-COLOR:e6dde6
X-SHOW-END-TIME:1
END:VEVENT
END:VCALENDAR