BEGIN:VCALENDAR
VERSION:2.0
PRODID:DPCALENDAR
CALSCALE:GREGORIAN
X-WR-TIMEZONE:UTC
BEGIN:VEVENT
DTSTART;TZID=UTC:20251007T110000
DTEND;TZID=UTC:20251007T130000
UID:FA9F211E-2753-4D54-BEFE-1DCB8804E746
SUMMARY:Clases de Pintura acuarela
CREATED:20250925T115330Z
DTSTAMP:20250925T115330Z
URL:https://www.clubanclar.es/index.php/clases-de-pintura-acuarela
LAST-MODIFIED:20250926T183015Z
SEQUENCE:110205
X-ACCESS:1
X-HITS:61
X-COLOR:d6375f
X-SHOW-END-TIME:1
END:VEVENT
BEGIN:VEVENT
DTSTART;TZID=UTC:20251021T110000
DTEND;TZID=UTC:20251021T130000
UID:FD71FD43-D0F5-4720-BBF7-0A27386CFB45
SUMMARY:Clases de Pintura acuarela
CREATED:20250925T115645Z
DTSTAMP:20250925T115645Z
URL:https://www.clubanclar.es/index.php/clases-de-pintura-acuarela-2
LAST-MODIFIED:20250926T183035Z
SEQUENCE:110030
X-ACCESS:1
X-HITS:85
X-COLOR:d6375f
X-SHOW-END-TIME:1
END:VEVENT
BEGIN:VEVENT
DTSTART;TZID=UTC:20251104T110000
DTEND;TZID=UTC:20251104T130000
UID:1BC8A509-65C3-4BCE-AC33-41AB33576233
SUMMARY:Clases de Pintura acuarela
CREATED:20250925T115330Z
DTSTAMP:20250925T115330Z
URL:https://www.clubanclar.es/index.php/clases-de-pintura-acuarela-3
DESCRIPTION:Dirige Asun Donazar\Nde 11h a 13h\N(pincha para leer más sobre la actividad)
X-ALT-DESC;FMTTYPE=text/html:<p>Dirige Asun Donazar</p><p>de 11h a 13h</p><p><a href="index.php/actividades/clases-de-pintura-acuarela">(pincha para leer más sobre la actividad)</a></p>
LAST-MODIFIED:20251024T083729Z
SEQUENCE:2493839
X-ACCESS:1
X-HITS:58
X-COLOR:d6375f
X-SHOW-END-TIME:1
END:VEVENT
BEGIN:VEVENT
DTSTART;TZID=UTC:20251118T110000
DTEND;TZID=UTC:20251118T130000
UID:397CD39F-0932-4139-BFF5-E23A8B6829BD
SUMMARY:Clases de Pintura acuarela
CREATED:20250925T115645Z
DTSTAMP:20250925T115645Z
URL:https://www.clubanclar.es/index.php/clases-de-pintura-acuarela-4
DESCRIPTION:Dirige Asun Donazar\Nde 11h a 13h\N(pincha para leer más sobre la actividad)
X-ALT-DESC;FMTTYPE=text/html:<p>Dirige Asun Donazar</p><p>de 11h a 13h</p><p><a href="index.php/actividades/clases-de-pintura-acuarela">(pincha para leer más sobre la actividad)</a></p>
LAST-MODIFIED:20251024T084106Z
SEQUENCE:2493861
X-ACCESS:1
X-HITS:74
X-COLOR:d6375f
X-SHOW-END-TIME:1
END:VEVENT
BEGIN:VEVENT
DTSTART;TZID=UTC:20251202T110000
DTEND;TZID=UTC:20251202T130000
UID:FF0D0DA9-25F0-4159-BF10-7B49A7ADCA0C
SUMMARY:Clases de Pintura acuarela
CREATED:20250925T115330Z
DTSTAMP:20250925T115330Z
URL:https://www.clubanclar.es/index.php/clases-de-pintura-acuarela-5
DESCRIPTION:Dirige Asun Donazar\Nde 11h a 13h\N(pincha para leer más sobre la actividad)
X-ALT-DESC;FMTTYPE=text/html:<p>Dirige Asun Donazar</p><p>de 11h a 13h</p><p><a href="index.php/actividades/clases-de-pintura-acuarela">(pincha para leer más sobre la actividad)</a></p>
LAST-MODIFIED:20251204T122735Z
SEQUENCE:6050045
X-ACCESS:1
X-HITS:10
X-COLOR:d6375f
X-SHOW-END-TIME:1
END:VEVENT
BEGIN:VEVENT
DTSTART;TZID=UTC:20251216T110000
DTEND;TZID=UTC:20251216T130000
UID:1EDC26A5-4A4C-42A7-9B57-65488719631D
SUMMARY:Clases de Pintura acuarela
CREATED:20250925T115330Z
DTSTAMP:20250925T115330Z
URL:https://www.clubanclar.es/index.php/clases-de-pintura-acuarela-6
DESCRIPTION:Dirige Asun Donazar\Nde 11h a 13h\N(pincha para leer más sobre la actividad)
X-ALT-DESC;FMTTYPE=text/html:<p>Dirige Asun Donazar</p><p>de 11h a 13h</p><p><a href="index.php/actividades/clases-de-pintura-acuarela">(pincha para leer más sobre la actividad)</a></p>
LAST-MODIFIED:20251214T180114Z
SEQUENCE:6934064
X-ACCESS:1
X-HITS:34
X-COLOR:d6375f
X-SHOW-END-TIME:1
END:VEVENT
BEGIN:VEVENT
DTSTART;TZID=UTC:20260120T110000
DTEND;TZID=UTC:20260120T130000
UID:6C4F495D-0619-418F-A610-91FBF0770CDC
SUMMARY:Clases de Pintura acuarela
CREATED:20250925T115645Z
DTSTAMP:20250925T115645Z
URL:https://www.clubanclar.es/index.php/clases-de-pintura-acuarela-7
DESCRIPTION:Dirige Asun Donazar\Nde 11h a 13h\N(pincha para leer más sobre la actividad)
X-ALT-DESC;FMTTYPE=text/html:<p>Dirige Asun Donazar</p><p>de 11h a 13h</p><p><a href="index.php/actividades/clases-de-pintura-acuarela">(pincha para leer más sobre la actividad)</a></p>
LAST-MODIFIED:20260111T184600Z
SEQUENCE:9355755
X-ACCESS:1
X-HITS:52
X-COLOR:d6375f
X-SHOW-END-TIME:1
END:VEVENT
BEGIN:VEVENT
DTSTART;TZID=UTC:20260203T110000
DTEND;TZID=UTC:20260203T130000
UID:7DF40024-AF63-4CFC-8437-EA1E386C4D28
SUMMARY:Clases de Pintura acuarela
CREATED:20250925T115645Z
DTSTAMP:20250925T115645Z
URL:https://www.clubanclar.es/index.php/clases-de-pintura-acuarela-8
DESCRIPTION:Dirige Asun Donazar\Nde 11h a 13h\N(pincha para leer más sobre la actividad)
X-ALT-DESC;FMTTYPE=text/html:<p>Dirige Asun Donazar</p><p>de 11h a 13h</p><p><a href="index.php/actividades/clases-de-pintura-acuarela">(pincha para leer más sobre la actividad)</a></p>
LAST-MODIFIED:20260129T192031Z
SEQUENCE:10913026
X-ACCESS:1
X-HITS:36
X-COLOR:d6375f
X-SHOW-END-TIME:1
END:VEVENT
BEGIN:VEVENT
DTSTART;TZID=UTC:20260217T110000
DTEND;TZID=UTC:20260217T130000
UID:637ECC8F-EDB8-43E5-B395-F31EDB6343A0
SUMMARY:Clases de Pintura acuarela
CREATED:20250925T115645Z
DTSTAMP:20250925T115645Z
URL:https://www.clubanclar.es/index.php/clases-de-pintura-acuarela-9
DESCRIPTION:Dirige Asun Donazar\Nde 11h a 13h\N(pincha para leer más sobre la actividad)
X-ALT-DESC;FMTTYPE=text/html:<p>Dirige Asun Donazar</p><p>de 11h a 13h</p><p><a href="index.php/actividades/clases-de-pintura-acuarela">(pincha para leer más sobre la actividad)</a></p>
LAST-MODIFIED:20260129T192042Z
SEQUENCE:10913037
X-ACCESS:1
X-HITS:59
X-COLOR:d6375f
X-SHOW-END-TIME:1
END:VEVENT
BEGIN:VEVENT
DTSTART;TZID=UTC:20260317T110000
DTEND;TZID=UTC:20260317T130000
UID:02A8C6CA-1FD1-47D5-8D5C-161DA227187A
SUMMARY:Clases de Pintura acuarela
CREATED:20250925T115645Z
DTSTAMP:20250925T115645Z
URL:https://www.clubanclar.es/index.php/clases-de-pintura-acuarela-10
DESCRIPTION:Dirige Asun Donazar\Nde 11h a 13h\N(pincha para leer más sobre la actividad)
X-ALT-DESC;FMTTYPE=text/html:<p>Dirige Asun Donazar</p><p>de 11h a 13h</p><p><a href="index.php/actividades/clases-de-pintura-acuarela">(pincha para leer más sobre la actividad)</a></p>
LAST-MODIFIED:20260307T073451Z
SEQUENCE:14067486
X-ACCESS:1
X-HITS:48
X-COLOR:d6375f
X-SHOW-END-TIME:1
END:VEVENT
BEGIN:VEVENT
DTSTART;TZID=UTC:20260415T110000
DTEND;TZID=UTC:20260415T130000
UID:60F8CA56-335A-4C16-804F-48702854DC13
SUMMARY:Clases de Pintura acuarela
CREATED:20250925T115645Z
DTSTAMP:20250925T115645Z
URL:https://www.clubanclar.es/index.php/clases-de-pintura-acuarela-11
DESCRIPTION:Dirige Asun Donazar\Nde 11h a 13h\N(pincha para leer más sobre la actividad)
X-ALT-DESC;FMTTYPE=text/html:<p>Dirige Asun Donazar</p><p>de 11h a 13h</p><p><a href="index.php/actividades/clases-de-pintura-acuarela">(pincha para leer más sobre la actividad)</a></p>
LAST-MODIFIED:20260326T110514Z
SEQUENCE:15721709
X-ACCESS:1
X-HITS:34
X-COLOR:d6375f
X-SHOW-END-TIME:1
END:VEVENT
END:VCALENDAR